{"text_format":"3","workbook":"xlsx","n_sheets":1,"sheets":["Bill of Materials"],"not_rendered":{"external_links":1},"read":"whole","date_system":"1900"}

{"sheet":"Bill of Materials","index":0,"n_rows":33,"n_cols":7,"rows_kept":33,"merged":[[32,1,32,4],[33,1,33,5]]}
[null,"#","Manufacturer/品牌","Manufacturer Part Number/型号","Description/描述","Quantity/用量","位号"]
[null,{"$f":"ROW(B2)-ROW($B$1)","v":1},"TDK Corporation","C3216X7R2A105M160","CAP-CER-1uF-100V-X7R-1206-20%",2,{"$f":"VLOOKUP(D2,'[1]827LSP1010-01-R03-PnP-A - LSP D'!$C$2:$D$77,2,FALSE)","v":"C1,C3"}]
[null,2,"Murata","GCM188R72A102KA37","CAP-CER-1nF-100V-X7R-0603-10%",1,{"$f":"VLOOKUP(D3,'[1]827LSP1010-01-R03-PnP-A - LSP D'!$C$2:$D$77,2,FALSE)","v":"C2"}]
[null,3,"AVX Corporation","06031C681KAT","CAP-CER-680PF-100V-X7R-0603-10%",1,{"$f":"VLOOKUP(D4,'[1]827LSP1010-01-R03-PnP-A - LSP D'!$C$2:$D$77,2,FALSE)","v":"C4"}]
[null,4,"Murata","GRM155R71C104KA88","CAP-CER-100NF-16V-X7R-0402-10%",1,{"$f":"VLOOKUP(D5,'[1]827LSP1010-01-R03-PnP-A - LSP D'!$C$2:$D$77,2,FALSE)","v":"C5"}]
[null,5,"KEMET","C1210C476M8RAC7800","CAP-CER-47uF-10V-X7R-1210-20%",3,{"$f":"VLOOKUP(D6,'[1]827LSP1010-01-R03-PnP-A - LSP D'!$C$2:$D$77,2,FALSE)","v":"C7,C8,C9"}]
[null,6,"Samsung","CL05B224KQ5","CAP-CER-220NF-6.3V-X7R-0402-10%",2,{"$f":"VLOOKUP(D7,'[1]827LSP1010-01-R03-PnP-A - LSP D'!$C$2:$D$77,2,FALSE)","v":"C10,C21"}]
[null,7,"Nichicon","UVC2G100M","CAP-ALE-10uF-400V-10x14-RAD-20%",1,{"$f":"VLOOKUP(D8,'[1]827LSP1010-01-R03-PnP-A - LSP D'!$C$2:$D$77,2,FALSE)","v":"C11"}]
[null,8,"Murata","GCM21BR72A104KA37K","CAP-CER-100NF-100V-X7R-0805-10%",2,{"$f":"VLOOKUP(D9,'[1]827LSP1010-01-R03-PnP-A - LSP D'!$C$2:$D$77,2,FALSE)","v":"C12,C13"}]
[null,9,"Samsung","CL21B391KBA","CAP-CER-390PF-50V-X7R-0805-10%",1,{"$f":"VLOOKUP(D10,'[1]827LSP1010-01-R03-PnP-A - LSP D'!$C$2:$D$77,2,FALSE)","v":"C14"}]
[null,10,"TDK Corporation","C1608X7R2A103M080","CAP-CER-10nF-100V-X7R-0603-20%",2,{"$f":"VLOOKUP(D11,'[1]827LSP1010-01-R03-PnP-A - LSP D'!$C$2:$D$77,2,FALSE)","v":"C15,C16"}]
[null,11,"TDK Corporation","C4532X7T2J224K200KC","CAP-CER-220nF-630V-X7T-1812-10%",2,{"$f":"VLOOKUP(D12,'[1]827LSP1010-01-R03-PnP-A - LSP D'!$C$2:$D$77,2,FALSE)","v":"C17,C18"}]
[null,12,"ON Semiconductor","NRVTS260ESF","DIODE SCHOTTKY 60V 2A SOD123FL",1,{"$f":"VLOOKUP(D13,'[1]827LSP1010-01-R03-PnP-A - LSP D'!$C$2:$D$77,2,FALSE)","v":"D1"}]
[null,13,"ON Semiconductor","ES1J","DIODE GEN PURP 600V 1A SMA",2,{"$f":"VLOOKUP(D14,'[1]827LSP1010-01-R03-PnP-A - LSP D'!$C$2:$D$77,2,FALSE)","v":"D2,D5"}]
[null,14,"Keystone Electronics","1377-2","CONN PIN PIN 2.03mm SOLDER",4,{"$f":"VLOOKUP(D15,'[1]827LSP1010-01-R03-PnP-A - LSP D'!$C$2:$D$77,2,FALSE)","v":"J1,J2,J4,J5"}]
[null,15,"Wurth","61300411121","CONN HEADER 4 POS 2.54",1,{"$f":"VLOOKUP(D16,'[1]827LSP1010-01-R03-PnP-A - LSP D'!$C$2:$D$77,2,FALSE)","v":"J3"}]
[null,16,"Wurth","74437346220","IND-22uH-1.9A-20%",1,{"$f":"VLOOKUP(D17,'[1]827LSP1010-01-R03-PnP-A - LSP D'!$C$2:$D$77,2,FALSE)","v":"L1"}]
[null,17,"Toshiba Semiconductor","SSM3J351R","MOSFET P-CH 60V 3.5A SOT-23F",1,{"$f":"VLOOKUP(D18,'[1]827LSP1010-01-R03-PnP-A - LSP D'!$C$2:$D$77,2,FALSE)","v":"Q1"}]
[null,18,"Diodes Incorporated","DMP10H4D2S-7","MOSFET P-CH 100V 270MA SOT23",1,{"$f":"VLOOKUP(D19,'[1]827LSP1010-01-R03-PnP-A - LSP D'!$C$2:$D$77,2,FALSE)","v":"Q2"}]
[null,19,"Diodes Inc.","MMBT3906-7-F","TRANS PNP 200MA 40V SOT-23",2,{"$f":"VLOOKUP(D20,'[1]827LSP1010-01-R03-PnP-A - LSP D'!$C$2:$D$77,2,FALSE)","v":"Q11,Q3"}]
[null,20,"Infineon","IPD70R360P7S","MOSFET N-CH 700V 12.5A DPak",1,{"$f":"VLOOKUP(D21,'[1]827LSP1010-01-R03-PnP-A - LSP D'!$C$2:$D$77,2,FALSE)","v":"Q7"}]
[null,21,"Diodes Inc.","DMN67D8LW","MOSFET N-CH 60V 240mA SOT323",3,{"$f":"VLOOKUP(D22,'[1]827LSP1010-01-R03-PnP-A - LSP D'!$C$2:$D$77,2,FALSE)","v":"Q10,Q8,Q9"}]
[null,22,"Yageo","RC0402JR-07680RL","RES-680R-0402-5%-63mW",1,{"$f":"VLOOKUP(D23,'[1]827LSP1010-01-R03-PnP-A - LSP D'!$C$2:$D$77,2,FALSE)","v":"R1"}]
[null,23,"Panasonic Electronic Components","ERJ-6LWFR005V","RES-5mR-0805-1%-125mW",1,{"$f":"VLOOKUP(D24,'[1]827LSP1010-01-R03-PnP-A - LSP D'!$C$2:$D$77,2,FALSE)","v":"R2"}]
[null,24,"Yageo","RC0603JR-0733KL","RES-33K-0603-5%-100mW",1,{"$f":"VLOOKUP(D25,'[1]827LSP1010-01-R03-PnP-A - LSP D'!$C$2:$D$77,2,FALSE)","v":"R3"}]
[null,25,"Yageo","RC0402JR-07200KL","RES-200K-0402-5%-63mW",4,{"$f":"VLOOKUP(D26,'[1]827LSP1010-01-R03-PnP-A - LSP D'!$C$2:$D$77,2,FALSE)","v":"R33,R38,R4,R40"}]
[null,26,"Yageo","RC0402JR-0710KL","RES-10K-0402-5%-63mW",2,{"$f":"VLOOKUP(D27,'[1]827LSP1010-01-R03-PnP-A - LSP D'!$C$2:$D$77,2,FALSE)","v":"R37,R5"}]
[null,27,"Yageo","RC0402JR-071KL","RES-1K-0402-5%-63mW",1,{"$f":"VLOOKUP(D28,'[1]827LSP1010-01-R03-PnP-A - LSP D'!$C$2:$D$77,2,FALSE)","v":"R6"}]
[null,28,"Yageo","RC0402JR-07390KL","RES-390K-0402-5%-63mW",1,{"$f":"VLOOKUP(D29,'[1]827LSP1010-01-R03-PnP-A - LSP D'!$C$2:$D$77,2,FALSE)","v":"R7"}]
[null,29,"Yageo","RC0402JR-071K8L","RES-1.8K-0402-5%-63mW",1,{"$f":"VLOOKUP(D30,'[1]827LSP1010-01-R03-PnP-A - LSP D'!$C$2:$D$77,2,FALSE)","v":"R8"}]
[null,30,"Stackpole","RMCF1210JT330R","RES-330-1210-5%-500mW",3,{"$f":"VLOOKUP(D31,'[1]827LSP1010-01-R03-PnP-A - LSP D'!$C$2:$D$77,2,FALSE)","v":"R12,R13,R14"}]
[null,31,"Yageo","RC0805FR-071M1L","RES-1.1M-0805-1%-125mW",6,{"$f":"VLOOKUP(D32,'[1]827LSP1010-01-R03-PnP-A - LSP D'!$C$2:$D$77,2,FALSE)","v":"R15,R17,R19,R22,R23,R26"}]
[null,"Notes",{"$nulls":3},{"$f":"SUM(F2:F32)","v":56},{"$f":"VLOOKUP(D33,'[1]827LSP1010-01-R03-PnP-A - LSP D'!$C$2:$D$77,2,FALSE)","v":{"$error":"#N/A"}}]